BEGIN:VCALENDAR
VERSION:2.0
PRODID:-//SVP der Stadt Bremgarten //NONSGML Events //EN
CALSCALE:GREGORIAN
X-WR-CALNAME:SVP der Stadt Bremgarten
BEGIN:VEVENT
CREATED:20230503T032024Z
UID:1587
DTEND:20230606T210000
DTSTART:20230606T200000
DTSTAMP:20260422T045857Z
LOCATION:
DESCRIPTION:20.00 Uhr, Gasthof Adler Gipf-Oberfrick
SUMMARY:Generalversammlung SVP Gipf-Oberfrick
ORGANIZER:
URL;VALUE=URI:https://www.svp-bremgarten.ch/termine/generalversammlung-svp-gipf-oberfrick/
TRANSP:OPAQUE
END:VEVENT
END:VCALENDAR
