BEGIN:VCALENDAR
VERSION:2.0
PRODID:-//SVP der Stadt Bremgarten //NONSGML Events //EN
CALSCALE:GREGORIAN
X-WR-CALNAME:SVP der Stadt Bremgarten
BEGIN:VEVENT
CREATED:20220912T042013Z
UID:1446
DTEND:20230510T210000
DTSTART:20230510T200000
DTSTAMP:20260419T140934Z
LOCATION:
DESCRIPTION:Mittwoch, 10. Mai 2023, 20.00 Uhr, Turnhalle Zeihen, Bühl 2
SUMMARY:Parteitag
ORGANIZER:
URL;VALUE=URI:https://www.svp-bremgarten.ch/termine/parteitag-2/
TRANSP:OPAQUE
END:VEVENT
END:VCALENDAR
